BEGIN:VCALENDAR
VERSION:2.0
PRODID:-//dhtmlXScheduler//NONSGML v2.2//EN
X-WR-CALNAME:Wydarzenia
BEGIN:VEVENT
DTSTART:20230512T130000
DTEND:20230609T000000
UID:1
SUMMARY:Stanisław Ryszard Kortyka / OBRAZY 6. DEKADY
END:VEVENT
END:VCALENDAR