BEGIN:VCALENDAR
VERSION:2.0
PRODID:-//dhtmlXScheduler//NONSGML v2.2//EN
X-WR-CALNAME:Wydarzenia
BEGIN:VEVENT
DTSTART:20230602T000000
DTEND:20230827T000000
UID:1
SUMMARY:„HOMMAGE À JAN BUCK” – PROJEKT NAUKOWO-BADAWCZY
END:VEVENT
END:VCALENDAR